BEGIN:VCALENDAR
VERSION:2.0
PRODID:-//Boulder Yacht Club - ECPv6.15.20//NONSGML v1.0//EN
CALSCALE:GREGORIAN
METHOD:PUBLISH
X-WR-CALNAME:Boulder Yacht Club
X-ORIGINAL-URL:https://boulderyc.org
X-WR-CALDESC:Events for Boulder Yacht Club
REFRESH-INTERVAL;VALUE=DURATION:PT1H
X-Robots-Tag:noindex
X-PUBLISHED-TTL:PT1H
BEGIN:VTIMEZONE
TZID:America/Chicago
BEGIN:DAYLIGHT
TZOFFSETFROM:-0600
TZOFFSETTO:-0500
TZNAME:CDT
DTSTART:20240310T080000
END:DAYLIGHT
BEGIN:STANDARD
TZOFFSETFROM:-0500
TZOFFSETTO:-0600
TZNAME:CST
DTSTART:20241103T070000
END:STANDARD
BEGIN:DAYLIGHT
TZOFFSETFROM:-0600
TZOFFSETTO:-0500
TZNAME:CDT
DTSTART:20250309T080000
END:DAYLIGHT
BEGIN:STANDARD
TZOFFSETFROM:-0500
TZOFFSETTO:-0600
TZNAME:CST
DTSTART:20251102T070000
END:STANDARD
BEGIN:DAYLIGHT
TZOFFSETFROM:-0600
TZOFFSETTO:-0500
TZNAME:CDT
DTSTART:20260308T080000
END:DAYLIGHT
BEGIN:STANDARD
TZOFFSETFROM:-0500
TZOFFSETTO:-0600
TZNAME:CST
DTSTART:20261101T070000
END:STANDARD
END:VTIMEZONE
BEGIN:VEVENT
DTSTART;TZID=America/Chicago:20250510T170000
DTEND;TZID=America/Chicago:20250510T190000
DTSTAMP:20260425T061426
CREATED:20250505T150038Z
LAST-MODIFIED:20250513T191443Z
UID:1518-1746896400-1746903600@boulderyc.org
SUMMARY:Pot Luck Supper
DESCRIPTION:
URL:https://boulderyc.org/event/pot-luck-supper/
LOCATION:Boulder Marina\, 26000 County Rd 1850 N\, Shattuc\, IL\, 62231\, United States
CATEGORIES:Marina Event
END:VEVENT
END:VCALENDAR