BEGIN:VCALENDAR
VERSION:2.0
PRODID:-//Boulder Yacht Club - ECPv6.15.20//NONSGML v1.0//EN
CALSCALE:GREGORIAN
METHOD:PUBLISH
X-WR-CALNAME:Boulder Yacht Club
X-ORIGINAL-URL:https://boulderyc.org
X-WR-CALDESC:Events for Boulder Yacht Club
REFRESH-INTERVAL;VALUE=DURATION:PT1H
X-Robots-Tag:noindex
X-PUBLISHED-TTL:PT1H
BEGIN:VTIMEZONE
TZID:America/Chicago
BEGIN:DAYLIGHT
TZOFFSETFROM:-0600
TZOFFSETTO:-0500
TZNAME:CDT
DTSTART:20240310T080000
END:DAYLIGHT
BEGIN:STANDARD
TZOFFSETFROM:-0500
TZOFFSETTO:-0600
TZNAME:CST
DTSTART:20241103T070000
END:STANDARD
BEGIN:DAYLIGHT
TZOFFSETFROM:-0600
TZOFFSETTO:-0500
TZNAME:CDT
DTSTART:20250309T080000
END:DAYLIGHT
BEGIN:STANDARD
TZOFFSETFROM:-0500
TZOFFSETTO:-0600
TZNAME:CST
DTSTART:20251102T070000
END:STANDARD
BEGIN:DAYLIGHT
TZOFFSETFROM:-0600
TZOFFSETTO:-0500
TZNAME:CDT
DTSTART:20260308T080000
END:DAYLIGHT
BEGIN:STANDARD
TZOFFSETFROM:-0500
TZOFFSETTO:-0600
TZNAME:CST
DTSTART:20261101T070000
END:STANDARD
END:VTIMEZONE
BEGIN:VEVENT
DTSTART;TZID=America/Chicago:20251025T080000
DTEND;TZID=America/Chicago:20251025T170000
DTSTAMP:20260424T105302
CREATED:20250225T032926Z
LAST-MODIFIED:20250225T032926Z
UID:1423-1761379200-1761411600@boulderyc.org
SUMMARY:The Great Race (Lakewide event)
DESCRIPTION:
URL:https://boulderyc.org/event/the-great-race-lakewide-event/
CATEGORIES:Race
END:VEVENT
BEGIN:VEVENT
DTSTART;VALUE=DATE:20251004
DTEND;VALUE=DATE:20251005
DTSTAMP:20260424T105302
CREATED:20250225T032905Z
LAST-MODIFIED:20250926T233525Z
UID:1421-1759536000-1759622399@boulderyc.org
SUMMARY:BYC Commodore's Cup - BYC Race 4 and Chili-Cookoff
DESCRIPTION:Screenshot\n \n\n\n\n\n\n  \nBYC Commodore’s Cup Entry Fee – $20 per boat\nNumber of $20 increments: \n \n\n \n \n\n\nScreenshot\n \n\n\n\n\n\n  \nBYC Chile Cook Off – $10 each\nNumber of $5 increments: 
URL:https://boulderyc.org/event/byc-commodores-cup-byc-race-4-and-chili-cookoff/
CATEGORIES:Race
END:VEVENT
BEGIN:VEVENT
DTSTART;VALUE=DATE:20250830
DTEND;VALUE=DATE:20250831
DTSTAMP:20260424T105302
CREATED:20250224T202707Z
LAST-MODIFIED:20250224T202707Z
UID:1414-1756512000-1756598399@boulderyc.org
SUMMARY:Renshaw Regatta (BYC Sponsored Lakewide event) - and BYC Race 3
DESCRIPTION:
URL:https://boulderyc.org/event/renshaw-regatta-byc-sponsored-lakewide-event-and-byc-race-3/
CATEGORIES:Race
END:VEVENT
BEGIN:VEVENT
DTSTART;TZID=America/Chicago:20250628T123000
DTEND;TZID=America/Chicago:20250628T233000
DTSTAMP:20260424T105302
CREATED:20250224T202513Z
LAST-MODIFIED:20250225T033515Z
UID:1402-1751113800-1751153400@boulderyc.org
SUMMARY:BYC Race 2\,  and Fireworks Raft-Up (a Lakewide event)
DESCRIPTION:
URL:https://boulderyc.org/event/byc-race-2-and-fireworks-raft-up-a-lakewide-event/
CATEGORIES:Race
END:VEVENT
BEGIN:VEVENT
DTSTART;TZID=America/Chicago:20250614T120000
DTEND;TZID=America/Chicago:20250614T160000
DTSTAMP:20260424T105302
CREATED:20250520T205820Z
LAST-MODIFIED:20250520T210055Z
UID:1640-1749902400-1749916800@boulderyc.org
SUMMARY:Tradewinds Yacht CLub - COMMODORE'S CUP - NOR
DESCRIPTION:NOR 2025 TYC Commodores Cup
URL:https://boulderyc.org/event/tradewinds-yacht-club-commodores-cup-nor/
LOCATION:Keysport\, IL\, United States
CATEGORIES:Race
END:VEVENT
BEGIN:VEVENT
DTSTART;TZID=America/Chicago:20250607T120000
DTEND;TZID=America/Chicago:20250607T170000
DTSTAMP:20260424T105302
CREATED:20250224T202031Z
LAST-MODIFIED:20250224T202031Z
UID:1398-1749297600-1749315600@boulderyc.org
SUMMARY:Cruiser Cup #1 - (CYC Sponsored Lakewide event)
DESCRIPTION:
URL:https://boulderyc.org/event/cruiser-cup-1-cyc-sponsored-lakewide-event/
CATEGORIES:Race
END:VEVENT
BEGIN:VEVENT
DTSTART;TZID=America/Chicago:20250101T120000
DTEND;TZID=America/Chicago:20250101T150000
DTSTAMP:20260424T105302
CREATED:20240122T012033Z
LAST-MODIFIED:20250506T031830Z
UID:1079-1735732800-1735743600@boulderyc.org
SUMMARY:BYC Race 1
DESCRIPTION:Event time TBD
URL:https://boulderyc.org/event/holiday-luncheon/
LOCATION:Boulder Marina\, 26000 County Rd 1850 N\, Shattuc\, IL\, 62231\, United States
CATEGORIES:Race
END:VEVENT
END:VCALENDAR