BEGIN:VCALENDAR
VERSION:2.0
PRODID:-//Boulder Yacht Club - ECPv6.15.20//NONSGML v1.0//EN
CALSCALE:GREGORIAN
METHOD:PUBLISH
X-WR-CALNAME:Boulder Yacht Club
X-ORIGINAL-URL:https://boulderyc.org
X-WR-CALDESC:Events for Boulder Yacht Club
REFRESH-INTERVAL;VALUE=DURATION:PT1H
X-Robots-Tag:noindex
X-PUBLISHED-TTL:PT1H
BEGIN:VTIMEZONE
TZID:America/Chicago
BEGIN:DAYLIGHT
TZOFFSETFROM:-0600
TZOFFSETTO:-0500
TZNAME:CDT
DTSTART:20240310T080000
END:DAYLIGHT
BEGIN:STANDARD
TZOFFSETFROM:-0500
TZOFFSETTO:-0600
TZNAME:CST
DTSTART:20241103T070000
END:STANDARD
BEGIN:DAYLIGHT
TZOFFSETFROM:-0600
TZOFFSETTO:-0500
TZNAME:CDT
DTSTART:20250309T080000
END:DAYLIGHT
BEGIN:STANDARD
TZOFFSETFROM:-0500
TZOFFSETTO:-0600
TZNAME:CST
DTSTART:20251102T070000
END:STANDARD
BEGIN:DAYLIGHT
TZOFFSETFROM:-0600
TZOFFSETTO:-0500
TZNAME:CDT
DTSTART:20260308T080000
END:DAYLIGHT
BEGIN:STANDARD
TZOFFSETFROM:-0500
TZOFFSETTO:-0600
TZNAME:CST
DTSTART:20261101T070000
END:STANDARD
BEGIN:DAYLIGHT
TZOFFSETFROM:-0600
TZOFFSETTO:-0500
TZNAME:CDT
DTSTART:20270314T080000
END:DAYLIGHT
BEGIN:STANDARD
TZOFFSETFROM:-0500
TZOFFSETTO:-0600
TZNAME:CST
DTSTART:20271107T070000
END:STANDARD
END:VTIMEZONE
BEGIN:VEVENT
DTSTART;TZID=America/Chicago:20250628T123000
DTEND;TZID=America/Chicago:20250628T233000
DTSTAMP:20260425T074107
CREATED:20250224T202513Z
LAST-MODIFIED:20250225T033515Z
UID:1402-1751113800-1751153400@boulderyc.org
SUMMARY:BYC Race 2\,  and Fireworks Raft-Up (a Lakewide event)
DESCRIPTION:
URL:https://boulderyc.org/event/byc-race-2-and-fireworks-raft-up-a-lakewide-event/
CATEGORIES:Race
END:VEVENT
BEGIN:VEVENT
DTSTART;TZID=America/Chicago:20250712T200000
DTEND;TZID=America/Chicago:20250712T233000
DTSTAMP:20260425T074107
CREATED:20250224T202532Z
LAST-MODIFIED:20250224T202532Z
UID:1404-1752350400-1752363000@boulderyc.org
SUMMARY:Moonlight Regatta (Lakewide event)
DESCRIPTION:
URL:https://boulderyc.org/event/moonlight-regatta-lakewide-event/
CATEGORIES:Marina Event,Social
END:VEVENT
BEGIN:VEVENT
DTSTART;VALUE=DATE:20250719
DTEND;VALUE=DATE:20250720
DTSTAMP:20260425T074107
CREATED:20250224T202552Z
LAST-MODIFIED:20250224T202552Z
UID:1406-1752883200-1752969599@boulderyc.org
SUMMARY:BYC Event (TBD)
DESCRIPTION:
URL:https://boulderyc.org/event/byc-event-tbd/
CATEGORIES:Social
END:VEVENT
BEGIN:VEVENT
DTSTART;TZID=America/Chicago:20250726T200000
DTEND;TZID=America/Chicago:20250726T233000
DTSTAMP:20260425T074107
CREATED:20250224T202613Z
LAST-MODIFIED:20250224T202613Z
UID:1408-1753560000-1753572600@boulderyc.org
SUMMARY:Lighted Boat Parade (Lakewide event)
DESCRIPTION:
URL:https://boulderyc.org/event/lighted-boat-parade-lakewide-event/
CATEGORIES:Social
END:VEVENT
BEGIN:VEVENT
DTSTART;TZID=America/Chicago:20250809T200000
DTEND;TZID=America/Chicago:20250809T233000
DTSTAMP:20260425T074107
CREATED:20250224T202631Z
LAST-MODIFIED:20250224T202631Z
UID:1410-1754769600-1754782200@boulderyc.org
SUMMARY:Moonlight Regatta (Lakewide event)
DESCRIPTION:
URL:https://boulderyc.org/event/moonlight-regatta-lakewide-event-2/
CATEGORIES:Social
END:VEVENT
BEGIN:VEVENT
DTSTART;TZID=America/Chicago:20250816T130000
DTEND;TZID=America/Chicago:20250816T190000
DTSTAMP:20260425T074107
CREATED:20250808T180007Z
LAST-MODIFIED:20250809T014022Z
UID:1709-1755349200-1755370800@boulderyc.org
SUMMARY:BYC AUGUST 16th RAFT UP!
DESCRIPTION:Register for BYC August 16th Raft Up – $10 each\n  Number of Attendees: 
URL:https://boulderyc.org/event/byc-august-16th-raft-up/
LOCATION:Lake Carlyle\, United States
CATEGORIES:Social
END:VEVENT
BEGIN:VEVENT
DTSTART;VALUE=DATE:20250830
DTEND;VALUE=DATE:20250831
DTSTAMP:20260425T074107
CREATED:20250224T202707Z
LAST-MODIFIED:20250224T202707Z
UID:1414-1756512000-1756598399@boulderyc.org
SUMMARY:Renshaw Regatta (BYC Sponsored Lakewide event) - and BYC Race 3
DESCRIPTION:
URL:https://boulderyc.org/event/renshaw-regatta-byc-sponsored-lakewide-event-and-byc-race-3/
CATEGORIES:Race
END:VEVENT
BEGIN:VEVENT
DTSTART;VALUE=DATE:20250920
DTEND;VALUE=DATE:20250921
DTSTAMP:20260425T074107
CREATED:20250224T202724Z
LAST-MODIFIED:20250918T013215Z
UID:1416-1758326400-1758412799@boulderyc.org
SUMMARY:BYC Charity Event
DESCRIPTION:Register for BYC Charity Event – $10 each\nNumber of Attendees: 
URL:https://boulderyc.org/event/byc-charity-event/
CATEGORIES:Marina Event,Social
END:VEVENT
BEGIN:VEVENT
DTSTART;VALUE=DATE:20251004
DTEND;VALUE=DATE:20251005
DTSTAMP:20260425T074107
CREATED:20250225T032905Z
LAST-MODIFIED:20250926T233525Z
UID:1421-1759536000-1759622399@boulderyc.org
SUMMARY:BYC Commodore's Cup - BYC Race 4 and Chili-Cookoff
DESCRIPTION:Screenshot\n \n\n\n\n\n\n  \nBYC Commodore’s Cup Entry Fee – $20 per boat\nNumber of $20 increments: \n \n\n \n \n\n\nScreenshot\n \n\n\n\n\n\n  \nBYC Chile Cook Off – $10 each\nNumber of $5 increments: 
URL:https://boulderyc.org/event/byc-commodores-cup-byc-race-4-and-chili-cookoff/
CATEGORIES:Race
END:VEVENT
BEGIN:VEVENT
DTSTART;TZID=America/Chicago:20251025T080000
DTEND;TZID=America/Chicago:20251025T170000
DTSTAMP:20260425T074107
CREATED:20250225T032926Z
LAST-MODIFIED:20250225T032926Z
UID:1423-1761379200-1761411600@boulderyc.org
SUMMARY:The Great Race (Lakewide event)
DESCRIPTION:
URL:https://boulderyc.org/event/the-great-race-lakewide-event/
CATEGORIES:Race
END:VEVENT
BEGIN:VEVENT
DTSTART;TZID=America/Chicago:20260313T170000
DTEND;TZID=America/Chicago:20260313T220000
DTSTAMP:20260425T074107
CREATED:20250313T220051Z
LAST-MODIFIED:20260208T191938Z
UID:1301-1773421200-1773439200@boulderyc.org
SUMMARY:2026 No Boat Regatta
DESCRIPTION:You are cordially invited to the 48th annual BYC No-Boat Regatta \nWhen: Friday March 13\, 2026\nWhere: The Old Spaghetti Factory – Laclede’s Landing\n727 North First Street\nSt. Louis Mo 63102\nTime: 5:00 pm Drinks and Hor d’oeuvres\n6:00 pm Dinner\n7:00 pm Dessert and Presentations\nCost: $35 per person\, drinks are extra\n$8 parking across the street\nPlease R.S.V.P to pammcb1880@gmail.com by March  \n \n\n\n\n\n\n  \nBYC NO BOAT Regatta Reservations– $35 each\nNumber of $35 increments: 
URL:https://boulderyc.org/event/2026-no-boat/
LOCATION:The Old Spahetti factory\, 727 North First Street\, St Louis\, 63102\, United States
CATEGORIES:Social
END:VEVENT
BEGIN:VEVENT
DTSTART;TZID=America/Chicago:20260516T180000
DTEND;TZID=America/Chicago:20260516T180000
DTSTAMP:20260425T074107
CREATED:20240122T010826Z
LAST-MODIFIED:20260407T193014Z
UID:1040-1778954400-1778954400@boulderyc.org
SUMMARY:Spero's Spaghetti Dinner
DESCRIPTION:BYC Spero’s Famous Spaghetti Dinner– $16 each\nNumber of $16 increments: 
URL:https://boulderyc.org/event/speros-spaghetti-dinner-and-flea-market/
LOCATION:Boulder Marina\, 26000 County Rd 1850 N\, Shattuc\, IL\, 62231\, United States
CATEGORIES:Social
END:VEVENT
END:VCALENDAR